BEGIN:VCALENDAR
VERSION:2.0
PRODID:-//wp-events-plugin.com//7.2.3.1//EN
TZID:Europe/London
X-WR-TIMEZONE:Europe/London
BEGIN:VEVENT
UID:13@mdlca.org.uk
DTSTART;TZID=Europe/London:20260523T140000
DTEND;TZID=Europe/London:20260523T160000
DTSTAMP:20260331T204820Z
URL:https://mdlca.org.uk/events/ladies-25-mile-time-trial/
SUMMARY:Ladies 25 mile Time Trial Organised by Weaver Valley CC
DESCRIPTION:Organised by Weaver Valley CC
CATEGORIES:Time Trial Ladies
END:VEVENT
BEGIN:VTIMEZONE
TZID:Europe/London
X-LIC-LOCATION:Europe/London
BEGIN:DAYLIGHT
DTSTART:20260329T020000
TZOFFSETFROM:+0000
TZOFFSETTO:+0100
TZNAME:BST
END:DAYLIGHT
END:VTIMEZONE
END:VCALENDAR